BEGIN:VCALENDAR
VERSION:2.0
PRODID:-//Plone.org//NONSGML plone.app.event//EN
X-WR-TIMEZONE:Europe/Madrid
BEGIN:VEVENT
SUMMARY:XLIII CONCURSO DEL VINO DE HORCHE
DTSTART;TZID=Europe/Madrid;VALUE=DATE-TIME:20240428T110000
DTEND;TZID=Europe/Madrid;VALUE=DATE-TIME:20240428T230000
DTSTAMP;VALUE=DATE-TIME:20260421T161932Z
UID:060d8f010ba4443eb58dca6a9f7b6cbc@horche.org
CATEGORIES:Agenda
CREATED;VALUE=DATE-TIME:20240405T174540Z
LAST-MODIFIED;VALUE=DATE-TIME:20240405T174710Z
LOCATION:Plaza Mayor de Horche.
URL:https://horche.org/actualidad/agenda/xliii-concurso-del-vino-de-horche
END:VEVENT
BEGIN:VTIMEZONE
TZID:Europe/Madrid
X-LIC-LOCATION:Europe/Madrid
BEGIN:DAYLIGHT
DTSTART;VALUE=DATE-TIME:20240331T030000
TZNAME:CEST
TZOFFSETFROM:+0100
TZOFFSETTO:+0200
END:DAYLIGHT
END:VTIMEZONE
END:VCALENDAR
