BEGIN:VCALENDAR
VERSION:2.0
PRODID:-//Plone.org//NONSGML plone.app.event//EN
X-WR-TIMEZONE:Europe/Madrid
BEGIN:VEVENT
SUMMARY:¡Ups! Se me escapó un miedo
DTSTART;TZID=Europe/Madrid;VALUE=DATE-TIME:20210626T120000
DTSTAMP;VALUE=DATE-TIME:20260422T015607Z
UID:b4bef3fd61bb4c9aa9907a7675dff204@horche.org
CREATED;VALUE=DATE-TIME:20210610T110810Z
LAST-MODIFIED;VALUE=DATE-TIME:20210615T094241Z
LOCATION:Casa de la Cultura
URL:https://horche.org/actualidad/agenda/ups-se-me-escapo-un-miedo
END:VEVENT
BEGIN:VTIMEZONE
TZID:Europe/Madrid
X-LIC-LOCATION:Europe/Madrid
BEGIN:DAYLIGHT
DTSTART;VALUE=DATE-TIME:20210328T030000
TZNAME:CEST
TZOFFSETFROM:+0100
TZOFFSETTO:+0200
END:DAYLIGHT
END:VTIMEZONE
END:VCALENDAR
