BEGIN:VCALENDAR
VERSION:2.0
PRODID:-//Plone.org//NONSGML plone.app.event//EN
X-WR-TIMEZONE:Europe/Madrid
BEGIN:VEVENT
SUMMARY:Torneo de Futbolín
DTSTART;TZID=Europe/Madrid;VALUE=DATE-TIME:20211002T190000
DTEND;TZID=Europe/Madrid;VALUE=DATE-TIME:20211002T210000
DTSTAMP;VALUE=DATE-TIME:20260425T232904Z
UID:37bc721df1c94eb486de1927844fac49@horche.org
CREATED;VALUE=DATE-TIME:20210929T175937Z
LAST-MODIFIED;VALUE=DATE-TIME:20210929T175949Z
LOCATION:Granero de Horche
URL:https://horche.org/actualidad/agenda/torneo-de-futbolin
END:VEVENT
BEGIN:VTIMEZONE
TZID:Europe/Madrid
X-LIC-LOCATION:Europe/Madrid
BEGIN:DAYLIGHT
DTSTART;VALUE=DATE-TIME:20210328T030000
TZNAME:CEST
TZOFFSETFROM:+0100
TZOFFSETTO:+0200
END:DAYLIGHT
END:VTIMEZONE
END:VCALENDAR
