BEGIN:VCALENDAR
VERSION:2.0
PRODID:-//Plone.org//NONSGML plone.app.event//EN
X-WR-TIMEZONE:Europe/Madrid
BEGIN:VEVENT
SUMMARY:TALLER. MUJERES EN MOVIMIENTO
DTSTART;TZID=Europe/Madrid;VALUE=DATE-TIME:20220520T183000
DTEND;TZID=Europe/Madrid;VALUE=DATE-TIME:20220520T203000
DTSTAMP;VALUE=DATE-TIME:20260422T122133Z
UID:428c9f02c3854eee946bd02c0d656a17@horche.org
CREATED;VALUE=DATE-TIME:20220512T075702Z
DESCRIPTION:Con Vanessa Molinero
LAST-MODIFIED;VALUE=DATE-TIME:20220517T151826Z
LOCATION:Casa de La Cultura de Horche
URL:https://horche.org/actualidad/agenda/taller-mujeres-en-movimiento
END:VEVENT
BEGIN:VTIMEZONE
TZID:Europe/Madrid
X-LIC-LOCATION:Europe/Madrid
BEGIN:DAYLIGHT
DTSTART;VALUE=DATE-TIME:20220327T030000
TZNAME:CEST
TZOFFSETFROM:+0100
TZOFFSETTO:+0200
END:DAYLIGHT
END:VTIMEZONE
END:VCALENDAR
