BEGIN:VCALENDAR
VERSION:2.0
PRODID:-//Plone.org//NONSGML plone.app.event//EN
X-WR-TIMEZONE:Europe/Madrid
BEGIN:VEVENT
SUMMARY:Noche en Violeta
DTSTART;TZID=Europe/Madrid;VALUE=DATE-TIME:20200307T200000
DTSTAMP;VALUE=DATE-TIME:20260422T232917Z
UID:2bc7de82f1ac406f9b8e740f3f4d6918@horche.org
ATTENDEE;CN="El arte de las mujeres";ROLE=REQ-PARTICIPANT:El arte de las m
 ujeres
CREATED;VALUE=DATE-TIME:20200210T175943Z
LAST-MODIFIED;VALUE=DATE-TIME:20200303T093248Z
LOCATION:Salón de Actos Casa de la Cultura
URL:https://horche.org/actualidad/agenda/noche-en-violeta
END:VEVENT
BEGIN:VTIMEZONE
TZID:Europe/Madrid
X-LIC-LOCATION:Europe/Madrid
BEGIN:STANDARD
DTSTART;VALUE=DATE-TIME:20191027T020000
TZNAME:CET
TZOFFSETFROM:+0200
TZOFFSETTO:+0100
END:STANDARD
END:VTIMEZONE
END:VCALENDAR
