BEGIN:VCALENDAR
VERSION:2.0
PRODID:-//Plone.org//NONSGML plone.app.event//EN
X-WR-TIMEZONE:Europe/Madrid
BEGIN:VEVENT
SUMMARY:IV MERCADO DE SEGUNDA MANO
DTSTART;TZID=Europe/Madrid;VALUE=DATE-TIME:20260516T103000
DTEND;TZID=Europe/Madrid;VALUE=DATE-TIME:20260516T143000
DTSTAMP;VALUE=DATE-TIME:20260422T143659Z
UID:d0b3475dfec042be8fc49201e5910f09@horche.org
CATEGORIES:Agenda
CREATED;VALUE=DATE-TIME:20260422T094815Z
LAST-MODIFIED;VALUE=DATE-TIME:20260422T094820Z
LOCATION:Plaza Mayor de Horche.
URL:https://horche.org/actualidad/agenda/iv-mercado-de-segunda-mano
END:VEVENT
BEGIN:VTIMEZONE
TZID:Europe/Madrid
X-LIC-LOCATION:Europe/Madrid
BEGIN:DAYLIGHT
DTSTART;VALUE=DATE-TIME:20260329T030000
TZNAME:CEST
TZOFFSETFROM:+0100
TZOFFSETTO:+0200
END:DAYLIGHT
END:VTIMEZONE
END:VCALENDAR
