BEGIN:VCALENDAR
VERSION:2.0
PRODID:-//Plone.org//NONSGML plone.app.event//EN
X-WR-TIMEZONE:Europe/Madrid
BEGIN:VEVENT
SUMMARY:Fiesta Halloween
DTSTART;TZID=Europe/Madrid;VALUE=DATE-TIME:20221029T120000
DTSTAMP;VALUE=DATE-TIME:20260421T152557Z
UID:f900a300e5dd4ae3923d36891f2b556f@horche.org
CREATED;VALUE=DATE-TIME:20221020T085030Z
LAST-MODIFIED;VALUE=DATE-TIME:20221020T085205Z
LOCATION:Casa de la Cultura
URL:https://horche.org/actualidad/agenda/fiesta-halloween
END:VEVENT
BEGIN:VTIMEZONE
TZID:Europe/Madrid
X-LIC-LOCATION:Europe/Madrid
BEGIN:DAYLIGHT
DTSTART;VALUE=DATE-TIME:20220327T030000
TZNAME:CEST
TZOFFSETFROM:+0100
TZOFFSETTO:+0200
END:DAYLIGHT
END:VTIMEZONE
END:VCALENDAR
