BEGIN:VCALENDAR
VERSION:2.0
PRODID:-//Plone.org//NONSGML plone.app.event//EN
X-WR-TIMEZONE:Europe/Madrid
BEGIN:VEVENT
SUMMARY:Exhibición de Taekwondo
DTSTART;TZID=Europe/Madrid;VALUE=DATE-TIME:20191220T173000
DTSTAMP;VALUE=DATE-TIME:20260423T134900Z
UID:d79afe54a0594a019104fa6ae6ce31fd@horche.org
ATTENDEE;CN="A beneficio de la Asociación San Vicente de Paúl.";ROLE=REQ
 -PARTICIPANT:A beneficio de la Asociación San Vicente de Paúl.
CREATED;VALUE=DATE-TIME:20191211T124753Z
LAST-MODIFIED;VALUE=DATE-TIME:20191211T124808Z
LOCATION:Polideportivo Municipal
URL:https://horche.org/actualidad/agenda/exhibicion-de-taekwondo
END:VEVENT
BEGIN:VTIMEZONE
TZID:Europe/Madrid
X-LIC-LOCATION:Europe/Madrid
BEGIN:STANDARD
DTSTART;VALUE=DATE-TIME:20191027T020000
TZNAME:CET
TZOFFSETFROM:+0200
TZOFFSETTO:+0100
END:STANDARD
END:VTIMEZONE
END:VCALENDAR
