BEGIN:VCALENDAR
VERSION:2.0
PRODID:-//Plone.org//NONSGML plone.app.event//EN
X-WR-TIMEZONE:Europe/Madrid
BEGIN:VEVENT
SUMMARY:Encuentro de La Almuñuela con propietarios y hortelanos
DTSTART;TZID=Europe/Madrid;VALUE=DATE-TIME:20221125T180000
DTEND;TZID=Europe/Madrid;VALUE=DATE-TIME:20221125T200000
DTSTAMP;VALUE=DATE-TIME:20260423T052102Z
UID:e3cc3b7ac32445418865750b6996c2fa@horche.org
CREATED;VALUE=DATE-TIME:20221118T094058Z
LAST-MODIFIED;VALUE=DATE-TIME:20221118T101220Z
LOCATION:Casa de la Cultura
URL:https://horche.org/actualidad/agenda/encuentro-de-la-almunuela-con-pro
 pietarios-y-hortelanos
END:VEVENT
BEGIN:VTIMEZONE
TZID:Europe/Madrid
X-LIC-LOCATION:Europe/Madrid
BEGIN:STANDARD
DTSTART;VALUE=DATE-TIME:20221030T020000
TZNAME:CET
TZOFFSETFROM:+0200
TZOFFSETTO:+0100
END:STANDARD
END:VTIMEZONE
END:VCALENDAR
