BEGIN:VCALENDAR
VERSION:2.0
PRODID:-//Plone.org//NONSGML plone.app.event//EN
X-WR-TIMEZONE:Europe/Madrid
BEGIN:VEVENT
SUMMARY:EMF Horche Alevín A - CD Salesiano José 08
DTSTART;TZID=Europe/Madrid;VALUE=DATE-TIME:20200111T124500
DTSTAMP;VALUE=DATE-TIME:20260421T142519Z
UID:b932004421f748a6bde4fb0dc444d48b@horche.org
ATTENDEE;CN="Partido de fútbol";ROLE=REQ-PARTICIPANT:Partido de fútbol
CREATED;VALUE=DATE-TIME:20200110T095924Z
LAST-MODIFIED;VALUE=DATE-TIME:20200110T095930Z
LOCATION:Campo Municipal San Roque
URL:https://horche.org/actualidad/agenda/emf-horche-alevin-a-cd-salesiano-
 jose-08
END:VEVENT
BEGIN:VTIMEZONE
TZID:Europe/Madrid
X-LIC-LOCATION:Europe/Madrid
BEGIN:STANDARD
DTSTART;VALUE=DATE-TIME:20191027T020000
TZNAME:CET
TZOFFSETFROM:+0200
TZOFFSETTO:+0100
END:STANDARD
END:VTIMEZONE
END:VCALENDAR
