BEGIN:VCALENDAR
VERSION:2.0
PRODID:-//Plone.org//NONSGML plone.app.event//EN
X-WR-TIMEZONE:Europe/Madrid
BEGIN:VEVENT
SUMMARY:Aparición de SS.MM. los Reyes Magos en la Plaza Mayor
DTSTART;TZID=Europe/Madrid;VALUE=DATE-TIME:20200101T133000
DTSTAMP;VALUE=DATE-TIME:20260421T142610Z
UID:75f8019b8f124a2eb00f6931c6e039c8@horche.org
ATTENDEE;CN="Para recoger las cartas y atender a las peticiones de niños 
 y mayores";ROLE=REQ-PARTICIPANT:Para recoger las cartas y atender a las pe
 ticiones de niños y mayores
CREATED;VALUE=DATE-TIME:20191212T121010Z
LAST-MODIFIED;VALUE=DATE-TIME:20191212T121017Z
LOCATION:Plaza Mayor
URL:https://horche.org/actualidad/agenda/aparicion-de-ss-mm-los-reyes-mago
 s-en-la-plaza-mayor
END:VEVENT
BEGIN:VTIMEZONE
TZID:Europe/Madrid
X-LIC-LOCATION:Europe/Madrid
BEGIN:STANDARD
DTSTART;VALUE=DATE-TIME:20191027T020000
TZNAME:CET
TZOFFSETFROM:+0200
TZOFFSETTO:+0100
END:STANDARD
END:VTIMEZONE
END:VCALENDAR
